BEGIN:VCALENDAR
PRODID:-//SINGPromos.com//NONSGML v1.0//EN
VERSION:2.0
CALSCALE:GREGORIAN
METHOD:PUBLISH
X-WR-CALNAME:SINGPromos.com
X-ORIGINAL-URL:https://singpromos.com
X-WR-CALDESC:Events for SINGPromos.com
BEGIN:VEVENT
DTSTART:20151008T000000
DTEND:20151011T235900
DTSTAMP:20260420T232525
CREATED:20151005T153112
LAST-MODIFIED:20151007T125715
UID:162437@https://singpromos.com
SUMMARY:Royal Sporting House Warehouse SALE 8 - 11 Oct 2015
DESCRIPTION:Brands include Asics, Wilson, Puma, Reebok, adidas and more. For more information, visit [ https://singpromos.com/warehouse-sales/royal-sporting-house-warehouse-sale-8-11-oct-2015-162437/ ]. 
LOCATION:190 Macpherson Rd, 348548
URL:https://singpromos.com/warehouse-sales/royal-sporting-house-warehouse-sale-8-11-oct-2015-162437/
END:VEVENT
END:VCALENDAR