BEGIN:VCALENDAR
PRODID:-//SINGPromos.com//NONSGML v1.0//EN
VERSION:2.0
CALSCALE:GREGORIAN
METHOD:PUBLISH
X-WR-CALNAME:SINGPromos.com
X-ORIGINAL-URL:https://singpromos.com
X-WR-CALDESC:Events for SINGPromos.com
BEGIN:VEVENT
DTSTART:20151006T000000
DTEND:20151006T235900
DTSTAMP:20260420T015833
CREATED:20151006T142509
LAST-MODIFIED:20151006T233633
UID:162491@https://singpromos.com
SUMMARY:Groupon 15% to 25% OFF (NO Min Spend) Selected Deals 1-Day Coupon Code 6 Oct 2015
DESCRIPTION:Enter the promo code at checkout to receive 25% off beauty & leisure deals and 15% off Food & Beverage deals listed on the page. Valid only for selected deals. For more information, visit [ https://singpromos.com/department-stores/groupon-15-to-25-off-no-min-spend-selected-deals-1-day-coupon-code-6-oct-2015-162491/ ]. 
LOCATION:
URL:https://singpromos.com/department-stores/groupon-15-to-25-off-no-min-spend-selected-deals-1-day-coupon-code-6-oct-2015-162491/
END:VEVENT
END:VCALENDAR