BEGIN:VCALENDAR
PRODID:-//SINGPromos.com//NONSGML v1.0//EN
VERSION:2.0
CALSCALE:GREGORIAN
METHOD:PUBLISH
X-WR-CALNAME:SINGPromos.com
X-ORIGINAL-URL:https://singpromos.com
X-WR-CALDESC:Events for SINGPromos.com
BEGIN:VEVENT
DTSTART:20151012T000000
DTEND:20151018T235900
DTSTAMP:20260420T232626
CREATED:20151010T153207
LAST-MODIFIED:20151007T020314
UID:162616@https://singpromos.com
SUMMARY:Isetan Household & Bedlinen Sale @ Parkway Parade 12 - 18 Oct 2015
DESCRIPTION:Enjoy up to 70% off Household & Bedlinen from Charles Millen, Milton Home, Cozy, Jean Perry and more. For more information, visit [ https://singpromos.com/happenings/isetan-household-bedlinen-sale-parkway-parade-12-18-oct-2015-162616/ ]. 
LOCATION:449269
URL:https://singpromos.com/happenings/isetan-household-bedlinen-sale-parkway-parade-12-18-oct-2015-162616/
END:VEVENT
END:VCALENDAR