BEGIN:VCALENDAR
PRODID:-//SINGPromos.com//NONSGML v1.0//EN
VERSION:2.0
CALSCALE:GREGORIAN
METHOD:PUBLISH
X-WR-CALNAME:SINGPromos.com
X-ORIGINAL-URL:https://singpromos.com
X-WR-CALDESC:Events for SINGPromos.com
BEGIN:VEVENT
DTSTART:20151008T000000
DTEND:20151031T235900
DTSTAMP:20260420T175937
CREATED:20151008T001635
LAST-MODIFIED:20151008T001635
UID:162780@https://singpromos.com
SUMMARY:Norman Security Software 10% to 15% Off Coupon Codes 8 - 31 Oct 2015
DESCRIPTION:Get up to 15% OFF on Norman Security Suite PRO, Security Suite, Antivirus and more. For more information, visit [ https://singpromos.com/computers-pc/norman-security-software-10-to-15-off-coupon-codes-8-31-oct-2015-162780/ ]. 
LOCATION:
URL:https://singpromos.com/computers-pc/norman-security-software-10-to-15-off-coupon-codes-8-31-oct-2015-162780/
END:VEVENT
END:VCALENDAR