BEGIN:VCALENDAR
PRODID:-//SINGPromos.com//NONSGML v1.0//EN
VERSION:2.0
CALSCALE:GREGORIAN
METHOD:PUBLISH
X-WR-CALNAME:SINGPromos.com
X-ORIGINAL-URL:https://singpromos.com
X-WR-CALDESC:Events for SINGPromos.com
BEGIN:VEVENT
DTSTART:20151008T000000
DTEND:20151009T235900
DTSTAMP:20260420T015850
CREATED:20151008T143428
LAST-MODIFIED:20151010T001206
UID:162795@https://singpromos.com
SUMMARY:Groupon 10% to 25% OFF (NO Min Spend) Selected Deals Coupon Code 8 - 9 Oct 2015
DESCRIPTION:Enter the promo code at checkout to receive 25% off beauty & wellness deals, 18% off food & beverage deals, 10% off goods deals and 12% off travel deals. For more information, visit [ https://singpromos.com/department-stores/groupon-10-to-25-off-no-min-spend-selected-deals-coupon-code-8-9-oct-2015-162795/ ]. 
LOCATION:
URL:https://singpromos.com/department-stores/groupon-10-to-25-off-no-min-spend-selected-deals-coupon-code-8-9-oct-2015-162795/
END:VEVENT
END:VCALENDAR