BEGIN:VCALENDAR
PRODID:-//SINGPromos.com//NONSGML v1.0//EN
VERSION:2.0
CALSCALE:GREGORIAN
METHOD:PUBLISH
X-WR-CALNAME:SINGPromos.com
X-ORIGINAL-URL:https://singpromos.com
X-WR-CALDESC:Events for SINGPromos.com
BEGIN:VEVENT
DTSTART:20151009T000000
DTEND:20151030T235900
DTSTAMP:20260420T172858
CREATED:20151009T112832
LAST-MODIFIED:20151008T213916
UID:162837@https://singpromos.com
SUMMARY:Breeks 1-for 1 Lunch Set Weekday Promotion 9 - 30 Oct 2015
DESCRIPTION:Enjoy 4 newly launched dishes at a great discounted price. All Lunch Sets come with a FREE soup-of-the-day. Prices start from $21.90. For more information, visit [ https://singpromos.com/dining-restaurants-food/breeks-1-for-1-lunch-set-weekday-promotion-9-30-oct-2015-162837/ ]. 
LOCATION:
URL:https://singpromos.com/dining-restaurants-food/breeks-1-for-1-lunch-set-weekday-promotion-9-30-oct-2015-162837/
END:VEVENT
END:VCALENDAR