BEGIN:VCALENDAR
PRODID:-//SINGPromos.com//NONSGML v1.0//EN
VERSION:2.0
CALSCALE:GREGORIAN
METHOD:PUBLISH
X-WR-CALNAME:SINGPromos.com
X-ORIGINAL-URL:https://singpromos.com
X-WR-CALDESC:Events for SINGPromos.com
BEGIN:VEVENT
DTSTART:20151009T000000
DTEND:20151011T235900
DTSTAMP:20260422T212627
CREATED:20151009T123837
LAST-MODIFIED:20151009T133539
UID:162928@https://singpromos.com
SUMMARY:Royce Chocolate FREE Nama Mild Cacao Box Giveaway @ All Outlets From 9 Oct 2015
DESCRIPTION:Receive a FREE limited edition box of Nama Mild Cacao (9's). No purchase required.. For more information, visit [ https://singpromos.com/dining-restaurants-food/royce-chocolate-free-nama-mild-cacao-box-giveaway-all-outlets-from-9-oct-2015-162928/ ]. 
LOCATION:
URL:https://singpromos.com/dining-restaurants-food/royce-chocolate-free-nama-mild-cacao-box-giveaway-all-outlets-from-9-oct-2015-162928/
END:VEVENT
END:VCALENDAR