BEGIN:VCALENDAR
PRODID:-//SINGPromos.com//NONSGML v1.0//EN
VERSION:2.0
CALSCALE:GREGORIAN
METHOD:PUBLISH
X-WR-CALNAME:SINGPromos.com
X-ORIGINAL-URL:https://singpromos.com
X-WR-CALDESC:Events for SINGPromos.com
BEGIN:VEVENT
DTSTART:20151012T000000
DTEND:20151025T235900
DTSTAMP:20260420T232525
CREATED:20151012T145454
LAST-MODIFIED:20151012T145525
UID:163290@https://singpromos.com
SUMMARY:Air Asia Go 3D2N fr $95/pax Flights, Hotel & Taxes Package Deal 12 - 25 Oct 2015
DESCRIPTION:Escape the Haze and go holiday - 3D2N Flights + Hotel + Tax from $95/pax - at Bangkok, Phuket, Krabi, Penang, Bali, Kuala Lumpur, Korea and Japan. For more information, visit [ https://singpromos.com/vacations/air-asia-go-3d2n-fr-95pax-flights-hotel-taxes-package-deal-12-25-oct-2015-163290/ ]. 
LOCATION:
URL:https://singpromos.com/vacations/air-asia-go-3d2n-fr-95pax-flights-hotel-taxes-package-deal-12-25-oct-2015-163290/
END:VEVENT
END:VCALENDAR