BEGIN:VCALENDAR
PRODID:-//SINGPromos.com//NONSGML v1.0//EN
VERSION:2.0
CALSCALE:GREGORIAN
METHOD:PUBLISH
X-WR-CALNAME:SINGPromos.com
X-ORIGINAL-URL:https://singpromos.com
X-WR-CALDESC:Events for SINGPromos.com
BEGIN:VEVENT
DTSTART:20151012T000000
DTEND:20151030T235900
DTSTAMP:20260420T175810
CREATED:20151012T143114
LAST-MODIFIED:20151012T143114
UID:163308@https://singpromos.com
SUMMARY:Fish & Co $15 Main Dish & Drink Weekday Delight Offer From 12 Oct 2015
DESCRIPTION:Fish & Co. Singapore is offering a $15 main dish and a drink for only $15 on weekdays. Choose from Grilled Barramundi with Sambal Sauce, White Fish with Ebike and more. For more information, visit [ https://singpromos.com/dining-restaurants-food/fish-co-15-main-dish-drink-weekday-delight-offer-from-12-oct-2015-163308/ ]. 
LOCATION:
URL:https://singpromos.com/dining-restaurants-food/fish-co-15-main-dish-drink-weekday-delight-offer-from-12-oct-2015-163308/
END:VEVENT
END:VCALENDAR