BEGIN:VCALENDAR
PRODID:-//SINGPromos.com//NONSGML v1.0//EN
VERSION:2.0
CALSCALE:GREGORIAN
METHOD:PUBLISH
X-WR-CALNAME:SINGPromos.com
X-ORIGINAL-URL:https://singpromos.com
X-WR-CALDESC:Events for SINGPromos.com
BEGIN:VEVENT
DTSTART:20151013T000000
DTEND:20151013T235900
DTSTAMP:20260420T034320
CREATED:20151013T114752
LAST-MODIFIED:20151013T215738
UID:163376@https://singpromos.com
SUMMARY:Groupon 35% OFF (NO Min Spend) Selected Beauty Deals 1-Day Coupon Code 13 Oct 2015
DESCRIPTION:Enter the promo code at checkout to receive 35% off beauty deals listed on the page. Valid only for selected beauty deals. For more information, visit [ https://singpromos.com/beauty/groupon-35-off-no-min-spend-selected-beauty-deals-1-day-coupon-code-13-oct-2015-163376/ ]. 
LOCATION:
URL:https://singpromos.com/beauty/groupon-35-off-no-min-spend-selected-beauty-deals-1-day-coupon-code-13-oct-2015-163376/
END:VEVENT
END:VCALENDAR