BEGIN:VCALENDAR
PRODID:-//SINGPromos.com//NONSGML v1.0//EN
VERSION:2.0
CALSCALE:GREGORIAN
METHOD:PUBLISH
X-WR-CALNAME:SINGPromos.com
X-ORIGINAL-URL:https://singpromos.com
X-WR-CALDESC:Events for SINGPromos.com
BEGIN:VEVENT
DTSTART:20151015T000000
DTEND:20151016T235900
DTSTAMP:20260420T034412
CREATED:20151015T110329
LAST-MODIFIED:20151016T235937
UID:163520@https://singpromos.com
SUMMARY:Groupon 5% to 15% OFF (NO Min Spend) Selected Deals Coupon Code 15 - 16 Oct 2015
DESCRIPTION:Get 5% to 15% off selected goods deals with the promo code below at checkout.. For more information, visit [ https://singpromos.com/department-stores/groupon-5-to-15-off-no-min-spend-selected-deals-coupon-code-15-16-oct-2015-163520/ ]. 
LOCATION:
URL:https://singpromos.com/department-stores/groupon-5-to-15-off-no-min-spend-selected-deals-coupon-code-15-16-oct-2015-163520/
END:VEVENT
END:VCALENDAR