BEGIN:VCALENDAR
PRODID:-//SINGPromos.com//NONSGML v1.0//EN
VERSION:2.0
CALSCALE:GREGORIAN
METHOD:PUBLISH
X-WR-CALNAME:SINGPromos.com
X-ORIGINAL-URL:https://singpromos.com
X-WR-CALDESC:Events for SINGPromos.com
BEGIN:VEVENT
DTSTART:20151020T000000
DTEND:20151021T235900
DTSTAMP:20260420T034412
CREATED:20151020T143318
LAST-MODIFIED:20151021T234453
UID:163917@https://singpromos.com
SUMMARY:Groupon 15% to 25% OFF (NO Min Spend) Selected Deals Coupon Code 20 - 21 Oct 2015
DESCRIPTION:Enter the promo code at checkout to receive 15% OFF Dining, 25% OFF Beauty, Spa & Healthcare, 25% OFF Leisure & Sports and 25% OFF Trusty Services deals listed on the page. For more information, visit [ https://singpromos.com/department-stores/groupon-15-to-25-off-no-min-spend-selected-deals-coupon-code-20-21-oct-2015-163917/ ]. 
LOCATION:
URL:https://singpromos.com/department-stores/groupon-15-to-25-off-no-min-spend-selected-deals-coupon-code-20-21-oct-2015-163917/
END:VEVENT
END:VCALENDAR