BEGIN:VCALENDAR
PRODID:-//SINGPromos.com//NONSGML v1.0//EN
VERSION:2.0
CALSCALE:GREGORIAN
METHOD:PUBLISH
X-WR-CALNAME:SINGPromos.com
X-ORIGINAL-URL:https://singpromos.com
X-WR-CALDESC:Events for SINGPromos.com
BEGIN:VEVENT
DTSTART:20151022T000000
DTEND:20151110T235900
DTSTAMP:20260422T195935
CREATED:20151022T191525
LAST-MODIFIED:20151022T191525
UID:164156@https://singpromos.com
SUMMARY:Philips Avent Offers @ OG 22 Oct - 10 Nov 2015
DESCRIPTION:From now till 10 Nov 2015, head down to any of our OG stores to enjoy delightful deals for mummy and baby from Philips Avent. For more information, visit [ https://singpromos.com/babies-mothers/philips-avent-offers-og-22-oct-10-nov-2015-164156/ ]. 
LOCATION:
URL:https://singpromos.com/babies-mothers/philips-avent-offers-og-22-oct-10-nov-2015-164156/
END:VEVENT
END:VCALENDAR