BEGIN:VCALENDAR
PRODID:-//SINGPromos.com//NONSGML v1.0//EN
VERSION:2.0
CALSCALE:GREGORIAN
METHOD:PUBLISH
X-WR-CALNAME:SINGPromos.com
X-ORIGINAL-URL:https://singpromos.com
X-WR-CALDESC:Events for SINGPromos.com
BEGIN:VEVENT
DTSTART:20111013T000000
DTEND:20111020T235900
DTSTAMP:20260420T005559
CREATED:20111013T151611
LAST-MODIFIED:20111021T025332
UID:16420@https://singpromos.com
SUMMARY:Charlie Brown Cafe 50% Off Lasagna Cheesy Flat Pasta & Drink @ Orchard 13 Oct 2011
DESCRIPTION:Dine with your childhood favourite cartoon character, Snoopy with this deal: $6.30 for Lasagna (Cheesy Flat Pasta) and drink at Charlie Brown Cafe at 313@Somerset - that's 50% off the usual price. Learn how to get this deal before it expires soon. For more information, visit [ https://singpromos.com/dining-restaurants-food/charlie-brown-cafe-50-off-lasagna-cheesy-flat-pasta-drink-orchard-13-oct-2011-16420/ ]. 
LOCATION:313 Orchard Road, 238895
URL:https://singpromos.com/dining-restaurants-food/charlie-brown-cafe-50-off-lasagna-cheesy-flat-pasta-drink-orchard-13-oct-2011-16420/
END:VEVENT
END:VCALENDAR