BEGIN:VCALENDAR
PRODID:-//SINGPromos.com//NONSGML v1.0//EN
VERSION:2.0
CALSCALE:GREGORIAN
METHOD:PUBLISH
X-WR-CALNAME:SINGPromos.com
X-ORIGINAL-URL:https://singpromos.com
X-WR-CALDESC:Events for SINGPromos.com
BEGIN:VEVENT
DTSTART:20151026T000000
DTEND:20151129T235900
DTSTAMP:20260420T053409
CREATED:20151026T102145
LAST-MODIFIED:20151026T012604
UID:164404@https://singpromos.com
SUMMARY:IKEA Promo Offers 26 Oct - 29 Nov 2015
DESCRIPTION:LINDVED side table $19.90 (Usual Price: $39.90), INGOLF chair $65 (Usual Price: $95), KLAMBY picture $49 (Usual Price: $99) and many more. For more information, visit [ https://singpromos.com/department-stores/ikea-promo-offers-26-oct-29-nov-2015-164404/ ]. 
LOCATION:
URL:https://singpromos.com/department-stores/ikea-promo-offers-26-oct-29-nov-2015-164404/
END:VEVENT
END:VCALENDAR