BEGIN:VCALENDAR
PRODID:-//SINGPromos.com//NONSGML v1.0//EN
VERSION:2.0
CALSCALE:GREGORIAN
METHOD:PUBLISH
X-WR-CALNAME:SINGPromos.com
X-ORIGINAL-URL:https://singpromos.com
X-WR-CALDESC:Events for SINGPromos.com
BEGIN:VEVENT
DTSTART:20151120T000000
DTEND:20151122T235900
DTSTAMP:20260420T020911
CREATED:20151027T160041
LAST-MODIFIED:20151118T164656
UID:164408@https://singpromos.com
SUMMARY:Baby Baby @ Singapore Expo 20 - 22 Nov 2015
DESCRIPTION:This weekend's Baby Baby is set to up the ante with even greater discounts and offerings from over 400 participating brands and more than 350 star buys for parents and parents-to-be!. For more information, visit [ https://singpromos.com/happenings/baby-baby-singapore-expo-20-22-nov-2015-164408/ ]. 
LOCATION:486150
URL:https://singpromos.com/happenings/baby-baby-singapore-expo-20-22-nov-2015-164408/
END:VEVENT
END:VCALENDAR