BEGIN:VCALENDAR
PRODID:-//SINGPromos.com//NONSGML v1.0//EN
VERSION:2.0
CALSCALE:GREGORIAN
METHOD:PUBLISH
X-WR-CALNAME:SINGPromos.com
X-ORIGINAL-URL:https://singpromos.com
X-WR-CALDESC:Events for SINGPromos.com
BEGIN:VEVENT
DTSTART:20111013T000000
DTEND:20111023T235900
DTSTAMP:20260422T082135
CREATED:20111013T203853
LAST-MODIFIED:20111021T004200
UID:16470@https://singpromos.com
SUMMARY:John Little Mega Expo Sale Up To 80% Off @ Singapore Expo 13 - 23 Oct 2011
DESCRIPTION:John Little is having The Mega Expo Sale at Singapore Expo Hall 3 from now till 23 Oct 2011, 1030am to 10pm, with hourly specials, Star buys and health & beauty specials.. For more information, visit [ https://singpromos.com/fashion-accessories/john-little-mega-expo-sale-up-to-80-off-singapore-expo-13-23-oct-2011-16470/ ]. 
LOCATION:
URL:https://singpromos.com/fashion-accessories/john-little-mega-expo-sale-up-to-80-off-singapore-expo-13-23-oct-2011-16470/
END:VEVENT
END:VCALENDAR