BEGIN:VCALENDAR
PRODID:-//SINGPromos.com//NONSGML v1.0//EN
VERSION:2.0
CALSCALE:GREGORIAN
METHOD:PUBLISH
X-WR-CALNAME:SINGPromos.com
X-ORIGINAL-URL:https://singpromos.com
X-WR-CALDESC:Events for SINGPromos.com
BEGIN:VEVENT
DTSTART:20151031T000000
DTEND:20151126T235900
DTSTAMP:20260422T202300
CREATED:20151031T045226
LAST-MODIFIED:20151030T235504
UID:164834@https://singpromos.com
SUMMARY:Zwilling J.A.Henckels & Staub Cookware Offers @ Tangs 31 Oct - 26 Nov 2015
DESCRIPTION:Less 20% on all regular-priced Zwilling J.A.Henckels items. Less 30% on all regular-priced Staub items.. For more information, visit [ https://singpromos.com/kitchenware-cookware/zwilling-j-a-henckels-staub-cookware-offers-tangs-31-oct-26-nov-2015-164834/ ]. 
LOCATION:238864
URL:https://singpromos.com/kitchenware-cookware/zwilling-j-a-henckels-staub-cookware-offers-tangs-31-oct-26-nov-2015-164834/
END:VEVENT
END:VCALENDAR