BEGIN:VCALENDAR
PRODID:-//SINGPromos.com//NONSGML v1.0//EN
VERSION:2.0
CALSCALE:GREGORIAN
METHOD:PUBLISH
X-WR-CALNAME:SINGPromos.com
X-ORIGINAL-URL:https://singpromos.com
X-WR-CALDESC:Events for SINGPromos.com
BEGIN:VEVENT
DTSTART:20151031T000000
DTEND:20151102T235900
DTSTAMP:20260422T072142
CREATED:20151031T082422
LAST-MODIFIED:20151030T233232
UID:164842@https://singpromos.com
SUMMARY:Audio House Anniversary Sale 31 Oct - 2 Nov 2015
DESCRIPTION:Audio House is having an Anniversary Sale until 2 November 2015. Get an additional $26 off voucher every $100 spent.. For more information, visit [ https://singpromos.com/department-stores/audio-house-anniversary-sale-31-oct-2-nov-2015-164842/ ]. 
LOCATION:
URL:https://singpromos.com/department-stores/audio-house-anniversary-sale-31-oct-2-nov-2015-164842/
END:VEVENT
END:VCALENDAR