BEGIN:VCALENDAR
PRODID:-//SINGPromos.com//NONSGML v1.0//EN
VERSION:2.0
CALSCALE:GREGORIAN
METHOD:PUBLISH
X-WR-CALNAME:SINGPromos.com
X-ORIGINAL-URL:https://singpromos.com
X-WR-CALDESC:Events for SINGPromos.com
BEGIN:VEVENT
DTSTART:20151116T000000
DTEND:20151122T235900
DTSTAMP:20260422T063147
CREATED:20151114T153257
LAST-MODIFIED:20151101T143344
UID:164950@https://singpromos.com
SUMMARY:Triumph Lingerie Fair @ Northpoint 16 - 22 Nov 2015
DESCRIPTION:Triumph Lingerie Fair at Northpoint. For more information, visit [ https://singpromos.com/happenings/triumph-lingerie-fair-northpoint-16-22-nov-2015-164950/ ]. 
LOCATION:769098
URL:https://singpromos.com/happenings/triumph-lingerie-fair-northpoint-16-22-nov-2015-164950/
END:VEVENT
END:VCALENDAR