BEGIN:VCALENDAR
PRODID:-//SINGPromos.com//NONSGML v1.0//EN
VERSION:2.0
CALSCALE:GREGORIAN
METHOD:PUBLISH
X-WR-CALNAME:SINGPromos.com
X-ORIGINAL-URL:https://singpromos.com
X-WR-CALDESC:Events for SINGPromos.com
BEGIN:VEVENT
DTSTART:20151103T000000
DTEND:20151231T235900
DTSTAMP:20260422T074427
CREATED:20151103T112119
LAST-MODIFIED:20151103T012345
UID:165157@https://singpromos.com
SUMMARY:AXS M-Station App FREE RWS Sea Aquarium Passes Giveaway 3 Nov - 31 Dec 2015
DESCRIPTION:AXS m-Station brings to you bills and fines payment, prepaid card top-up services and selected eServices that are available on AXS Station.. For more information, visit [ https://singpromos.com/places-of-interest/axs-m-station-app-free-rws-sea-aquarium-passes-giveaway-3-nov-31-dec-2015-165157/ ]. 
LOCATION:
URL:https://singpromos.com/places-of-interest/axs-m-station-app-free-rws-sea-aquarium-passes-giveaway-3-nov-31-dec-2015-165157/
END:VEVENT
END:VCALENDAR