BEGIN:VCALENDAR
PRODID:-//SINGPromos.com//NONSGML v1.0//EN
VERSION:2.0
CALSCALE:GREGORIAN
METHOD:PUBLISH
X-WR-CALNAME:SINGPromos.com
X-ORIGINAL-URL:https://singpromos.com
X-WR-CALDESC:Events for SINGPromos.com
BEGIN:VEVENT
DTSTART:20151103T000000
DTEND:20151103T235900
DTSTAMP:20260419T223400
CREATED:20151103T124938
LAST-MODIFIED:20151103T232401
UID:165174@https://singpromos.com
SUMMARY:Groupon 10% to 30% OFF (NO Min Spend) Selected Deals Coupon Code 3 Nov 2015
DESCRIPTION:Enter the promo code at checkout to receive 10% OFF Food & Beverages, 25% OFF Beauty & Wellness and 30% OFF Leisure & Service deals listed on the page. For more information, visit [ https://singpromos.com/department-stores/groupon-10-to-30-off-no-min-spend-selected-deals-coupon-code-3-nov-2015-165174/ ]. 
LOCATION:
URL:https://singpromos.com/department-stores/groupon-10-to-30-off-no-min-spend-selected-deals-coupon-code-3-nov-2015-165174/
END:VEVENT
END:VCALENDAR