BEGIN:VCALENDAR
PRODID:-//SINGPromos.com//NONSGML v1.0//EN
VERSION:2.0
CALSCALE:GREGORIAN
METHOD:PUBLISH
X-WR-CALNAME:SINGPromos.com
X-ORIGINAL-URL:https://singpromos.com
X-WR-CALDESC:Events for SINGPromos.com
BEGIN:VEVENT
DTSTART:20111014T000000
DTEND:20111024T235900
DTSTAMP:20260422T081525
CREATED:20111014T223540
LAST-MODIFIED:20111014T223540
UID:16540@https://singpromos.com
SUMMARY:Tangs Kitchenware 20% Off Special Offers 14 - 24 Oct 2011
DESCRIPTION:Tangs is having a "Dinner is Served" special offers of tableware from now till 24 October. Enjoy 20% off regular-priced items for Pyrex, Corningware, Corelle  and Visions.. For more information, visit [ https://singpromos.com/kitchenware-cookware/tangs-kitchenware-20-off-special-offers-14-24-oct-2011-16540/ ]. 
LOCATION:
URL:https://singpromos.com/kitchenware-cookware/tangs-kitchenware-20-off-special-offers-14-24-oct-2011-16540/
END:VEVENT
END:VCALENDAR