BEGIN:VCALENDAR
PRODID:-//SINGPromos.com//NONSGML v1.0//EN
VERSION:2.0
CALSCALE:GREGORIAN
METHOD:PUBLISH
X-WR-CALNAME:SINGPromos.com
X-ORIGINAL-URL:https://singpromos.com
X-WR-CALDESC:Events for SINGPromos.com
BEGIN:VEVENT
DTSTART:20151106T000000
DTEND:20151115T235900
DTSTAMP:20260420T051015
CREATED:20151106T203809
LAST-MODIFIED:20151106T203809
UID:165627@https://singpromos.com
SUMMARY:World Of Sports 40% Off Storewide Sale From 6 Nov 2015
DESCRIPTION:Enjoy a massive 40% storewide at all World of Sports, World of Outdoors, Mizuno, Salomon and Columbia outlets. For more information, visit [ https://singpromos.com/sports/world-of-sports-40-off-storewide-sale-from-6-nov-2015-165627/ ]. 
LOCATION:
URL:https://singpromos.com/sports/world-of-sports-40-off-storewide-sale-from-6-nov-2015-165627/
END:VEVENT
END:VCALENDAR