BEGIN:VCALENDAR
PRODID:-//SINGPromos.com//NONSGML v1.0//EN
VERSION:2.0
CALSCALE:GREGORIAN
METHOD:PUBLISH
X-WR-CALNAME:SINGPromos.com
X-ORIGINAL-URL:https://singpromos.com
X-WR-CALDESC:Events for SINGPromos.com
BEGIN:VEVENT
DTSTART:20151120T000000
DTEND:20151122T235900
DTSTAMP:20260420T035756
CREATED:20151109T192720
LAST-MODIFIED:20151121T002934
UID:165911@https://singpromos.com
SUMMARY:Cristofori Warehouse Sale @ Bedok 20 - 22 Nov 2015
DESCRIPTION:Features musical instruments such as piano, digital piano, keyboards, drums, guitars and ukulele at discounted prices. For more information, visit [ https://singpromos.com/warehouse-sales/cristofori-warehouse-sale-bedok-9-nov-31-dec-2015-165911/ ]. 
LOCATION:489980
URL:https://singpromos.com/warehouse-sales/cristofori-warehouse-sale-bedok-9-nov-31-dec-2015-165911/
END:VEVENT
END:VCALENDAR