BEGIN:VCALENDAR
PRODID:-//SINGPromos.com//NONSGML v1.0//EN
VERSION:2.0
CALSCALE:GREGORIAN
METHOD:PUBLISH
X-WR-CALNAME:SINGPromos.com
X-ORIGINAL-URL:https://singpromos.com
X-WR-CALDESC:Events for SINGPromos.com
BEGIN:VEVENT
DTSTART:20151111T000000
DTEND:20151130T235900
DTSTAMP:20260420T034413
CREATED:20151111T005408
LAST-MODIFIED:20151112T110703
UID:166008@https://singpromos.com
SUMMARY:O'Coffee Club 40% to 50% Off Cash Vouchers From 11 Nov 2015
DESCRIPTION:Indulge in Western Cuisine at O'Coffee Club with this deal: $12 for a $20 Cash Voucher or $20 for a $40 cash voucher for Western Cuisine at 14 Outlets Islandwide. Learn how to get this deal before it ends soon. For more information, visit [ https://singpromos.com/dining-restaurants-food/ocoffee-club-40-to-50-off-cash-vouchers-from-11-nov-2015-166008/ ]. 
LOCATION:
URL:https://singpromos.com/dining-restaurants-food/ocoffee-club-40-to-50-off-cash-vouchers-from-11-nov-2015-166008/
END:VEVENT
END:VCALENDAR