BEGIN:VCALENDAR
PRODID:-//SINGPromos.com//NONSGML v1.0//EN
VERSION:2.0
CALSCALE:GREGORIAN
METHOD:PUBLISH
X-WR-CALNAME:SINGPromos.com
X-ORIGINAL-URL:https://singpromos.com
X-WR-CALDESC:Events for SINGPromos.com
BEGIN:VEVENT
DTSTART:20151112T000000
DTEND:20151115T235900
DTSTAMP:20260422T074737
CREATED:20151112T080453
LAST-MODIFIED:20151111T230930
UID:166089@https://singpromos.com
SUMMARY:Udders 1-for-1 Ice Cream @ OrangeTee Building 12 - 15 Nov 2015
DESCRIPTION:Udders is offering 1-for-1 ice cream at Jack's Place Toa Payoh from 12 November to 15 November. For more information, visit [ https://singpromos.com/dining-restaurants-food/udders-1-for-1-ice-cream-orangetee-building-12-15-nov-2015-166089/ ]. 
LOCATION:319402
URL:https://singpromos.com/dining-restaurants-food/udders-1-for-1-ice-cream-orangetee-building-12-15-nov-2015-166089/
END:VEVENT
END:VCALENDAR