BEGIN:VCALENDAR
PRODID:-//SINGPromos.com//NONSGML v1.0//EN
VERSION:2.0
CALSCALE:GREGORIAN
METHOD:PUBLISH
X-WR-CALNAME:SINGPromos.com
X-ORIGINAL-URL:https://singpromos.com
X-WR-CALDESC:Events for SINGPromos.com
BEGIN:VEVENT
DTSTART:20151112T000000
DTEND:20151115T235900
DTSTAMP:20260422T082148
CREATED:20151112T170209
LAST-MODIFIED:20151112T134205
UID:166133@https://singpromos.com
SUMMARY:John Little Up to 20% Off Promotion 12 - 15 Nov 2015
DESCRIPTION:Save this Christmas with John the Little Elf. All shoppers' weekend special, for 4 days from 12 November to 15 November 2015.. For more information, visit [ https://singpromos.com/department-stores/john-little-up-to-20-off-promotion-12-15-nov-2015-166133/ ]. 
LOCATION:
URL:https://singpromos.com/department-stores/john-little-up-to-20-off-promotion-12-15-nov-2015-166133/
END:VEVENT
END:VCALENDAR