BEGIN:VCALENDAR
PRODID:-//SINGPromos.com//NONSGML v1.0//EN
VERSION:2.0
CALSCALE:GREGORIAN
METHOD:PUBLISH
X-WR-CALNAME:SINGPromos.com
X-ORIGINAL-URL:https://singpromos.com
X-WR-CALDESC:Events for SINGPromos.com
BEGIN:VEVENT
DTSTART:20151113T000000
DTEND:20151113T235900
DTSTAMP:20260420T034412
CREATED:20151113T142656
LAST-MODIFIED:20151113T233656
UID:166218@https://singpromos.com
SUMMARY:Groupon 10% to 25% OFF (NO Min Spend) Selected Deals Coupon Code 13 Nov 2015
DESCRIPTION:Enter the promo code at checkout to receive 10% OFF Food & Beverages, 25% OFF Beauty & Wellness and 25% OFF Leisure & Service deals listed on the page. For more information, visit [ https://singpromos.com/department-stores/groupon-10-to-25-off-no-min-spend-selected-deals-coupon-code-13-nov-2015-166218/ ]. 
LOCATION:
URL:https://singpromos.com/department-stores/groupon-10-to-25-off-no-min-spend-selected-deals-coupon-code-13-nov-2015-166218/
END:VEVENT
END:VCALENDAR