BEGIN:VCALENDAR
PRODID:-//SINGPromos.com//NONSGML v1.0//EN
VERSION:2.0
CALSCALE:GREGORIAN
METHOD:PUBLISH
X-WR-CALNAME:SINGPromos.com
X-ORIGINAL-URL:https://singpromos.com
X-WR-CALDESC:Events for SINGPromos.com
BEGIN:VEVENT
DTSTART:20151114T000000
DTEND:20151124T235900
DTSTAMP:20260422T075633
CREATED:20151114T003152
LAST-MODIFIED:20151114T003439
UID:166310@https://singpromos.com
SUMMARY:EuropAce Appliances Offers @ Takashimaya 14 - 24 Nov 2015
DESCRIPTION:The Christmas Kitchen. Now to Tue 24 Nov 2015 at Household Department, B1, Takashimaya Department Store. For more information, visit [ https://singpromos.com/home-appliances/europace-appliances-offers-takashimaya-14-24-nov-2015-166310/ ]. 
LOCATION:238873
URL:https://singpromos.com/home-appliances/europace-appliances-offers-takashimaya-14-24-nov-2015-166310/
END:VEVENT
END:VCALENDAR