BEGIN:VCALENDAR
PRODID:-//SINGPromos.com//NONSGML v1.0//EN
VERSION:2.0
CALSCALE:GREGORIAN
METHOD:PUBLISH
X-WR-CALNAME:SINGPromos.com
X-ORIGINAL-URL:https://singpromos.com
X-WR-CALDESC:Events for SINGPromos.com
BEGIN:VEVENT
DTSTART:20151117T000000
DTEND:20151118T235900
DTSTAMP:20260420T034352
CREATED:20151117T144643
LAST-MODIFIED:20151118T234710
UID:166712@https://singpromos.com
SUMMARY:Groupon 10% to 30% OFF (NO Min Spend) Selected Deals Coupon Code 17 - 18 Nov 2015
DESCRIPTION:Get 10% to 30% off selected goods deals with the promo code below at checkout.. For more information, visit [ https://singpromos.com/department-stores/groupon-10-to-30-off-no-min-spend-selected-deals-coupon-code-17-18-nov-2015-166712/ ]. 
LOCATION:
URL:https://singpromos.com/department-stores/groupon-10-to-30-off-no-min-spend-selected-deals-coupon-code-17-18-nov-2015-166712/
END:VEVENT
END:VCALENDAR