BEGIN:VCALENDAR
PRODID:-//SINGPromos.com//NONSGML v1.0//EN
VERSION:2.0
CALSCALE:GREGORIAN
METHOD:PUBLISH
X-WR-CALNAME:SINGPromos.com
X-ORIGINAL-URL:https://singpromos.com
X-WR-CALDESC:Events for SINGPromos.com
BEGIN:VEVENT
DTSTART:20151118T000000
DTEND:20151213T235900
DTSTAMP:20260420T051000
CREATED:20151118T164900
LAST-MODIFIED:20151218T184946
UID:166832@https://singpromos.com
SUMMARY:World Of Sports 30% Off Storewide Sale From 18 Nov 2015
DESCRIPTION:World of Sports, World of Outdoors, Mizuno, Salomon and Columbia 30% OFF storewide Sale is back for a limited time. For more information, visit [ https://singpromos.com/sports/world-of-sports-30-off-storewide-sale-from-18-nov-2015-166832/ ]. 
LOCATION:
URL:https://singpromos.com/sports/world-of-sports-30-off-storewide-sale-from-18-nov-2015-166832/
END:VEVENT
END:VCALENDAR