BEGIN:VCALENDAR
PRODID:-//SINGPromos.com//NONSGML v1.0//EN
VERSION:2.0
CALSCALE:GREGORIAN
METHOD:PUBLISH
X-WR-CALNAME:SINGPromos.com
X-ORIGINAL-URL:https://singpromos.com
X-WR-CALDESC:Events for SINGPromos.com
BEGIN:VEVENT
DTSTART:20151119T000000
DTEND:20151119T235900
DTSTAMP:20260420T034352
CREATED:20151119T141222
LAST-MODIFIED:20151119T235235
UID:166863@https://singpromos.com
SUMMARY:Groupon 5% to 20% OFF (NO Min Spend) Selected Deals Coupon Code 19 Nov 2015
DESCRIPTION:Get 5% to 20% off selected goods deals with the promo code below at checkout.. For more information, visit [ https://singpromos.com/department-stores/groupon-5-to-20-off-no-min-spend-selected-deals-coupon-code-19-nov-2015-166863/ ]. 
LOCATION:
URL:https://singpromos.com/department-stores/groupon-5-to-20-off-no-min-spend-selected-deals-coupon-code-19-nov-2015-166863/
END:VEVENT
END:VCALENDAR