BEGIN:VCALENDAR
PRODID:-//SINGPromos.com//NONSGML v1.0//EN
VERSION:2.0
CALSCALE:GREGORIAN
METHOD:PUBLISH
X-WR-CALNAME:SINGPromos.com
X-ORIGINAL-URL:https://singpromos.com
X-WR-CALDESC:Events for SINGPromos.com
BEGIN:VEVENT
DTSTART:20151123T000000
DTEND:20151123T235900
DTSTAMP:20260420T034352
CREATED:20151123T142447
LAST-MODIFIED:20151123T233742
UID:167084@https://singpromos.com
SUMMARY:Groupon 10% to 25% OFF (NO Min Spend) Selected Deals Coupon Code 23 Nov 2015
DESCRIPTION:Get 5% to 25% off selected goods deals with the promo code below at checkout.. For more information, visit [ https://singpromos.com/department-stores/groupon-10-to-25-off-no-min-spend-selected-deals-coupon-code-23-nov-2015-167084/ ]. 
LOCATION:
URL:https://singpromos.com/department-stores/groupon-10-to-25-off-no-min-spend-selected-deals-coupon-code-23-nov-2015-167084/
END:VEVENT
END:VCALENDAR