BEGIN:VCALENDAR
PRODID:-//SINGPromos.com//NONSGML v1.0//EN
VERSION:2.0
CALSCALE:GREGORIAN
METHOD:PUBLISH
X-WR-CALNAME:SINGPromos.com
X-ORIGINAL-URL:https://singpromos.com
X-WR-CALDESC:Events for SINGPromos.com
BEGIN:VEVENT
DTSTART:20151124T000000
DTEND:20151125T235900
DTSTAMP:20260420T034320
CREATED:20151124T120908
LAST-MODIFIED:20151124T120908
UID:167139@https://singpromos.com
SUMMARY:Groupon 10% OFF Selected Travel Deals NO Min Spend Coupon Code 24 - 25 Nov 2015
DESCRIPTION:Get 10% off selected Travel deal with the promo code below at checkout from a list of eligible deals. For more information, visit [ https://singpromos.com/vacations/groupon-10-off-selected-travel-deals-no-min-spend-coupon-code-24-25-nov-2015-167139/ ]. 
LOCATION:
URL:https://singpromos.com/vacations/groupon-10-off-selected-travel-deals-no-min-spend-coupon-code-24-25-nov-2015-167139/
END:VEVENT
END:VCALENDAR