BEGIN:VCALENDAR
PRODID:-//SINGPromos.com//NONSGML v1.0//EN
VERSION:2.0
CALSCALE:GREGORIAN
METHOD:PUBLISH
X-WR-CALNAME:SINGPromos.com
X-ORIGINAL-URL:https://singpromos.com
X-WR-CALDESC:Events for SINGPromos.com
BEGIN:VEVENT
DTSTART:20151203T000000
DTEND:20160206T235900
DTSTAMP:20260423T234217
CREATED:20151126T111152
LAST-MODIFIED:20151126T011646
UID:167209@https://singpromos.com
SUMMARY:IDM Apparel Warehouse Sale 3 Dec 2015 - 6 Feb 2016
DESCRIPTION:IDM Apparel will be having a Warehouse sale from 3 Dec 2015 to 6 Feb 2016 at Paya Ubi Industrial Park. For more information, visit [ https://singpromos.com/warehouse-sales/idm-apparel-warehouse-sale-3-dec-2015-6-feb-2016-167209/ ]. 
LOCATION:
URL:https://singpromos.com/warehouse-sales/idm-apparel-warehouse-sale-3-dec-2015-6-feb-2016-167209/
END:VEVENT
END:VCALENDAR