BEGIN:VCALENDAR
PRODID:-//SINGPromos.com//NONSGML v1.0//EN
VERSION:2.0
CALSCALE:GREGORIAN
METHOD:PUBLISH
X-WR-CALNAME:SINGPromos.com
X-ORIGINAL-URL:https://singpromos.com
X-WR-CALDESC:Events for SINGPromos.com
BEGIN:VEVENT
DTSTART:20151126T000000
DTEND:20151126T235900
DTSTAMP:20260420T034352
CREATED:20151126T144126
LAST-MODIFIED:20151126T235525
UID:167212@https://singpromos.com
SUMMARY:Groupon 8% to 15% OFF (NO Min Spend) Selected Deals Coupon Code 26 Nov 2015
DESCRIPTION:Get 8% to 15% off selected goods deals with the promo code below at checkout.. For more information, visit [ https://singpromos.com/department-stores/groupon-8-to-15-off-no-min-spend-selected-deals-coupon-code-26-nov-2015-167212/ ]. 
LOCATION:
URL:https://singpromos.com/department-stores/groupon-8-to-15-off-no-min-spend-selected-deals-coupon-code-26-nov-2015-167212/
END:VEVENT
END:VCALENDAR