BEGIN:VCALENDAR
PRODID:-//SINGPromos.com//NONSGML v1.0//EN
VERSION:2.0
CALSCALE:GREGORIAN
METHOD:PUBLISH
X-WR-CALNAME:SINGPromos.com
X-ORIGINAL-URL:https://singpromos.com
X-WR-CALDESC:Events for SINGPromos.com
BEGIN:VEVENT
DTSTART:20151127T000000
DTEND:20151130T235900
DTSTAMP:20260420T034320
CREATED:20151127T011739
LAST-MODIFIED:20151130T233711
UID:167281@https://singpromos.com
SUMMARY:Groupon 10% to 40% OFF (NO Min Spend) Selected Deals Coupon Code 27 - 30 Nov 2015
DESCRIPTION:Get 10% to 40% off selected deals with the promo code below at checkout at Groupon Singapore. For more information, visit [ https://singpromos.com/department-stores/groupon-10-to-40-off-no-min-spend-selected-deals-coupon-code-27-30-nov-2015-167281/ ]. 
LOCATION:
URL:https://singpromos.com/department-stores/groupon-10-to-40-off-no-min-spend-selected-deals-coupon-code-27-30-nov-2015-167281/
END:VEVENT
END:VCALENDAR