BEGIN:VCALENDAR
PRODID:-//SINGPromos.com//NONSGML v1.0//EN
VERSION:2.0
CALSCALE:GREGORIAN
METHOD:PUBLISH
X-WR-CALNAME:SINGPromos.com
X-ORIGINAL-URL:https://singpromos.com
X-WR-CALDESC:Events for SINGPromos.com
BEGIN:VEVENT
DTSTART:20151127T000000
DTEND:20151130T235900
DTSTAMP:20260424T032136
CREATED:20151127T113902
LAST-MODIFIED:20151127T143956
UID:167350@https://singpromos.com
SUMMARY:Kinokuniya 10% Off Storewide Black Friday Special 27 - 30 Nov 2015
DESCRIPTION:Books Kinokuniya is having an inaugural "Black Friday Special" Promotion.. For more information, visit [ https://singpromos.com/books/kinokuniya-10-off-storewide-black-friday-special-27-30-nov-2015-167350/ ]. 
LOCATION:
URL:https://singpromos.com/books/kinokuniya-10-off-storewide-black-friday-special-27-30-nov-2015-167350/
END:VEVENT
END:VCALENDAR