BEGIN:VCALENDAR
PRODID:-//SINGPromos.com//NONSGML v1.0//EN
VERSION:2.0
CALSCALE:GREGORIAN
METHOD:PUBLISH
X-WR-CALNAME:SINGPromos.com
X-ORIGINAL-URL:https://singpromos.com
X-WR-CALDESC:Events for SINGPromos.com
BEGIN:VEVENT
DTSTART:20151204T000000
DTEND:20151219T235900
DTSTAMP:20260420T053435
CREATED:20151127T181903
LAST-MODIFIED:20151207T113415
UID:167397@https://singpromos.com
SUMMARY:IKEA $1/$2 Supper Deals & Extended Opening Hours (Fri & Sat) 4 - 19 Dec 2015
DESCRIPTION:Celebrate a sweeter TGIF with IKEA on the first three Fridays (AND Saturdays) of December as IKEA extends its shopping hours at both its Alexandra and Tampines stores!. For more information, visit [ https://singpromos.com/department-stores/ikea-extended-opening-hours-fri-sat-4-19-dec-2015-167397/ ]. 
LOCATION:
URL:https://singpromos.com/department-stores/ikea-extended-opening-hours-fri-sat-4-19-dec-2015-167397/
END:VEVENT
END:VCALENDAR