BEGIN:VCALENDAR
PRODID:-//SINGPromos.com//NONSGML v1.0//EN
VERSION:2.0
CALSCALE:GREGORIAN
METHOD:PUBLISH
X-WR-CALNAME:SINGPromos.com
X-ORIGINAL-URL:https://singpromos.com
X-WR-CALDESC:Events for SINGPromos.com
BEGIN:VEVENT
DTSTART:20151130T000000
DTEND:20151217T235900
DTSTAMP:20260420T175937
CREATED:20151130T123535
LAST-MODIFIED:20151130T123741
UID:167522@https://singpromos.com
SUMMARY:Fish & Co 1-for-1, 50% Off & More Coupons (Mon-Thurs) From 30 Nov - 17 Dec 2015
DESCRIPTION:Bait no longer - Fish'mas is finally here! Don't miss out on these fin-omenol deals. To redeem, simply flash the deal of the day at any Fish & Co participating outlet. For more information, visit [ https://singpromos.com/dining-restaurants-food/fish-co-1-for-1-50-off-more-coupons-mon-thurs-from-30-nov-17-dec-2015-167522/ ]. 
LOCATION:
URL:https://singpromos.com/dining-restaurants-food/fish-co-1-for-1-50-off-more-coupons-mon-thurs-from-30-nov-17-dec-2015-167522/
END:VEVENT
END:VCALENDAR