BEGIN:VCALENDAR
PRODID:-//SINGPromos.com//NONSGML v1.0//EN
VERSION:2.0
CALSCALE:GREGORIAN
METHOD:PUBLISH
X-WR-CALNAME:SINGPromos.com
X-ORIGINAL-URL:https://singpromos.com
X-WR-CALDESC:Events for SINGPromos.com
BEGIN:VEVENT
DTSTART:20151201T000000
DTEND:20160103T235900
DTSTAMP:20260420T053435
CREATED:20151201T014449
LAST-MODIFIED:20151130T195214
UID:167565@https://singpromos.com
SUMMARY:IKEA Promo Offers 1 Dec 2015 - 3 Jan 2016
DESCRIPTION:Enjoy discounts you can take advantage of as a member of IKEA Family (membership is free). For more information, visit [ https://singpromos.com/department-stores/ikea-promo-offers-1-dec-2015-3-jan-2016-167565/ ]. 
LOCATION:
URL:https://singpromos.com/department-stores/ikea-promo-offers-1-dec-2015-3-jan-2016-167565/
END:VEVENT
END:VCALENDAR