BEGIN:VCALENDAR
PRODID:-//SINGPromos.com//NONSGML v1.0//EN
VERSION:2.0
CALSCALE:GREGORIAN
METHOD:PUBLISH
X-WR-CALNAME:SINGPromos.com
X-ORIGINAL-URL:https://singpromos.com
X-WR-CALDESC:Events for SINGPromos.com
BEGIN:VEVENT
DTSTART:20151201T000000
DTEND:20151202T235900
DTSTAMP:20260420T034352
CREATED:20151201T021402
LAST-MODIFIED:20151201T120318
UID:167589@https://singpromos.com
SUMMARY:Groupon 10% OFF Selected Travel Deals NO Min Spend Coupon Code 1 - 2 Dec 2015
DESCRIPTION:Get 10% off selected Travel deal with the promo code below at checkout from a list of eligible deals. For more information, visit [ https://singpromos.com/vacations/groupon-10-off-selected-travel-deals-no-min-spend-coupon-code-1-2-dec-2015-167589/ ]. 
LOCATION:
URL:https://singpromos.com/vacations/groupon-10-off-selected-travel-deals-no-min-spend-coupon-code-1-2-dec-2015-167589/
END:VEVENT
END:VCALENDAR