BEGIN:VCALENDAR
PRODID:-//SINGPromos.com//NONSGML v1.0//EN
VERSION:2.0
CALSCALE:GREGORIAN
METHOD:PUBLISH
X-WR-CALNAME:SINGPromos.com
X-ORIGINAL-URL:https://singpromos.com
X-WR-CALDESC:Events for SINGPromos.com
BEGIN:VEVENT
DTSTART:20151203T000000
DTEND:20151203T235900
DTSTAMP:20260420T052613
CREATED:20151203T002136
LAST-MODIFIED:20151203T234642
UID:167761@https://singpromos.com
SUMMARY:Groupon 5% to 15% OFF (NO Min Spend) Selected Deals Coupon Code 3 Dec 2015
DESCRIPTION:Get 5% to 15% off selected goods deals with the promo code below at checkout.. For more information, visit [ https://singpromos.com/department-stores/groupon-5-to-15-off-no-min-spend-selected-deals-coupon-code-3-dec-2015-167761/ ]. 
LOCATION:
URL:https://singpromos.com/department-stores/groupon-5-to-15-off-no-min-spend-selected-deals-coupon-code-3-dec-2015-167761/
END:VEVENT
END:VCALENDAR