BEGIN:VCALENDAR
PRODID:-//SINGPromos.com//NONSGML v1.0//EN
VERSION:2.0
CALSCALE:GREGORIAN
METHOD:PUBLISH
X-WR-CALNAME:SINGPromos.com
X-ORIGINAL-URL:https://singpromos.com
X-WR-CALDESC:Events for SINGPromos.com
BEGIN:VEVENT
DTSTART:20151203T000000
DTEND:20151206T235900
DTSTAMP:20260419T230542
CREATED:20151203T101314
LAST-MODIFIED:20151203T011356
UID:167768@https://singpromos.com
SUMMARY:OG 20% OFF Storewide Promo 3 - 6 Dec 2015
DESCRIPTION:OG is throwing a 20% off promotion storewide at all outlets for a limited time.. For more information, visit [ https://singpromos.com/department-stores/og-20-off-storewide-promo-3-6-dec-2015-167768/ ]. 
LOCATION:
URL:https://singpromos.com/department-stores/og-20-off-storewide-promo-3-6-dec-2015-167768/
END:VEVENT
END:VCALENDAR