BEGIN:VCALENDAR
PRODID:-//SINGPromos.com//NONSGML v1.0//EN
VERSION:2.0
CALSCALE:GREGORIAN
METHOD:PUBLISH
X-WR-CALNAME:SINGPromos.com
X-ORIGINAL-URL:https://singpromos.com
X-WR-CALDESC:Events for SINGPromos.com
BEGIN:VEVENT
DTSTART:20151203T000000
DTEND:20151224T235900
DTSTAMP:20260420T053435
CREATED:20151203T123914
LAST-MODIFIED:20151203T124018
UID:167787@https://singpromos.com
SUMMARY:IKEA Swedish Christmas Buffet Tickets Available From 3 Dec 2015
DESCRIPTION:Come indulge in the grandest feast of the year! Seating is limited so get your tickets at the IKEA Restaurants today.. For more information, visit [ https://singpromos.com/dining-restaurants-food/ikea-swedish-christmas-buffet-tickets-available-from-3-dec-2015-167787/ ]. 
LOCATION:
URL:https://singpromos.com/dining-restaurants-food/ikea-swedish-christmas-buffet-tickets-available-from-3-dec-2015-167787/
END:VEVENT
END:VCALENDAR