BEGIN:VCALENDAR
PRODID:-//SINGPromos.com//NONSGML v1.0//EN
VERSION:2.0
CALSCALE:GREGORIAN
METHOD:PUBLISH
X-WR-CALNAME:SINGPromos.com
X-ORIGINAL-URL:https://singpromos.com
X-WR-CALDESC:Events for SINGPromos.com
BEGIN:VEVENT
DTSTART:20151204T000000
DTEND:20151205T235900
DTSTAMP:20260420T052635
CREATED:20151204T140408
LAST-MODIFIED:20151206T000315
UID:167838@https://singpromos.com
SUMMARY:Groupon 5% to 30% OFF (NO Min Spend) Selected Deals Coupon Code 4 - 5 Dec 2015
DESCRIPTION:Get 5% to 30% off selected deals with the promo code below at checkout.. For more information, visit [ https://singpromos.com/department-stores/groupon-5-to-30-off-no-min-spend-selected-deals-coupon-code-4-5-dec-2015-167838/ ]. 
LOCATION:
URL:https://singpromos.com/department-stores/groupon-5-to-30-off-no-min-spend-selected-deals-coupon-code-4-5-dec-2015-167838/
END:VEVENT
END:VCALENDAR