BEGIN:VCALENDAR
PRODID:-//SINGPromos.com//NONSGML v1.0//EN
VERSION:2.0
CALSCALE:GREGORIAN
METHOD:PUBLISH
X-WR-CALNAME:SINGPromos.com
X-ORIGINAL-URL:https://singpromos.com
X-WR-CALDESC:Events for SINGPromos.com
BEGIN:VEVENT
DTSTART:20151206T000000
DTEND:20151206T235900
DTSTAMP:20260420T052613
CREATED:20151206T000630
LAST-MODIFIED:20151206T235915
UID:167932@https://singpromos.com
SUMMARY:Groupon 8% to 25% OFF (NO Min Spend) Selected Deals Coupon Code 6 Dec 2015
DESCRIPTION:Get 8% to 25% off selected deals with the promo code below at checkout.. For more information, visit [ https://singpromos.com/department-stores/groupon-8-to-25-off-no-min-spend-selected-deals-coupon-code-6-dec-2015-167932/ ]. 
LOCATION:
URL:https://singpromos.com/department-stores/groupon-8-to-25-off-no-min-spend-selected-deals-coupon-code-6-dec-2015-167932/
END:VEVENT
END:VCALENDAR