BEGIN:VCALENDAR
PRODID:-//SINGPromos.com//NONSGML v1.0//EN
VERSION:2.0
CALSCALE:GREGORIAN
METHOD:PUBLISH
X-WR-CALNAME:SINGPromos.com
X-ORIGINAL-URL:https://singpromos.com
X-WR-CALDESC:Events for SINGPromos.com
BEGIN:VEVENT
DTSTART:20151207T000000
DTEND:20151231T235900
DTSTAMP:20260420T175845
CREATED:20151207T000109
LAST-MODIFIED:20151207T000109
UID:167981@https://singpromos.com
SUMMARY:Norman Security Software 10% to 15% Off Coupon Codes 7 - 31 Dec 2015
DESCRIPTION:Get up to 15% OFF on Norman Security Suite PRO, Security Suite, Antivirus and more. For more information, visit [ https://singpromos.com/computers-pc/norman-security-software-10-to-15-off-coupon-codes-7-31-dec-2015-167981/ ]. 
LOCATION:
URL:https://singpromos.com/computers-pc/norman-security-software-10-to-15-off-coupon-codes-7-31-dec-2015-167981/
END:VEVENT
END:VCALENDAR