BEGIN:VCALENDAR
PRODID:-//SINGPromos.com//NONSGML v1.0//EN
VERSION:2.0
CALSCALE:GREGORIAN
METHOD:PUBLISH
X-WR-CALNAME:SINGPromos.com
X-ORIGINAL-URL:https://singpromos.com
X-WR-CALDESC:Events for SINGPromos.com
BEGIN:VEVENT
DTSTART:20151208T000000
DTEND:20151208T235900
DTSTAMP:20260420T052635
CREATED:20151208T003426
LAST-MODIFIED:20151209T001225
UID:168069@https://singpromos.com
SUMMARY:Groupon 8% to 28% OFF (NO Min Spend) Selected Deals 1-Day Coupon Code 8 Dec 2015
DESCRIPTION:Get 8% to 28% off selected deals with the promo code below at checkout.. For more information, visit [ https://singpromos.com/department-stores/groupon-8-to-28-off-no-min-spend-selected-deals-1-day-coupon-code-8-dec-2015-168069/ ]. 
LOCATION:
URL:https://singpromos.com/department-stores/groupon-8-to-28-off-no-min-spend-selected-deals-1-day-coupon-code-8-dec-2015-168069/
END:VEVENT
END:VCALENDAR